BEGIN:VCALENDAR
VERSION:2.0
PRODID:-//Lehigh Valley Charter High School for the Arts//NONSGML v1.0//EN
CALSCALE:GREGORIAN
METHOD:PUBLISH
X-WR-CALNAME:Lehigh Valley Charter High School for the Arts
X-ORIGINAL-URL:https://www.charterarts.org
X-WR-CALDESC:Events for Lehigh Valley Charter High School for the Arts
X-WR-TIMEZONE:America/New_York
BEGIN:VEVENT
DTSTART;VALUE=DATE:20170907
DTEND;VALUE=DATE:20170908
DTSTAMP:20260420T225717
CREATED:20170801T110214
LAST-MODIFIED:20170831T085112
UID:14601@https://www.charterarts.org
SUMMARY:School Picture Day- 9th and 10th grades
DESCRIPTION:
LOCATION:
URL:https://www.charterarts.org/event/school-picture-day-5/
END:VEVENT
END:VCALENDAR