BEGIN:VCALENDAR
VERSION:2.0
PRODID:-//Lehigh Valley Charter High School for the Arts//NONSGML v1.0//EN
CALSCALE:GREGORIAN
METHOD:PUBLISH
X-WR-CALNAME:Lehigh Valley Charter High School for the Arts
X-ORIGINAL-URL:https://www.charterarts.org
X-WR-CALDESC:Events for Lehigh Valley Charter High School for the Arts
X-WR-TIMEZONE:America/New_York
BEGIN:VEVENT
DTSTART;VALUE=DATE-TIME:20150306T105000
DTEND;VALUE=DATE-TIME:20150306T113000
DTSTAMP:20260419T123607
CREATED:20141218T134814
LAST-MODIFIED:20141218T134814
UID:9026@https://www.charterarts.org
SUMMARY:School Store
DESCRIPTION:The School Store will be set-up during lunch in the lobby.
LOCATION:
URL:https://www.charterarts.org/event/school-store-5/
END:VEVENT
END:VCALENDAR