BEGIN:VCALENDAR
VERSION:2.0
PRODID:-//Lehigh Valley Charter High School for the Arts//NONSGML v1.0//EN
CALSCALE:GREGORIAN
METHOD:PUBLISH
X-WR-CALNAME:Lehigh Valley Charter High School for the Arts
X-ORIGINAL-URL:https://www.charterarts.org
X-WR-CALDESC:Events for Lehigh Valley Charter High School for the Arts
X-WR-TIMEZONE:America/New_York
BEGIN:VEVENT
DTSTART;VALUE=DATE-TIME:20170914T190000
DTEND;VALUE=DATE-TIME:20170914T210000
DTSTAMP:20260420T164849
CREATED:20170908T101608
LAST-MODIFIED:20170908T101654
UID:14839@https://www.charterarts.org
SUMMARY:Seminar: It's Time: Applying to College
DESCRIPTION:The Charter Arts Guidance Department presents a seminar for seniors and their parents:    It's Time:  Applying to College  Thursday\, September 14  7pm  Commons Café    READ MORE
LOCATION:
URL:https://www.charterarts.org/event/seminar-seniors-time/
END:VEVENT
END:VCALENDAR