BEGIN:VCALENDAR
VERSION:2.0
PRODID:-//Lehigh Valley Charter High School for the Arts//NONSGML v1.0//EN
CALSCALE:GREGORIAN
METHOD:PUBLISH
X-WR-CALNAME:Lehigh Valley Charter High School for the Arts
X-ORIGINAL-URL:https://www.charterarts.org
X-WR-CALDESC:Events for Lehigh Valley Charter High School for the Arts
X-WR-TIMEZONE:America/New_York
BEGIN:VEVENT
DTSTART;VALUE=DATE-TIME:20130426T193000
DTEND;VALUE=DATE-TIME:20130526T213000
DTSTAMP:20260419T132923
CREATED:20130115T160925
LAST-MODIFIED:20130425T110726
UID:4370@https://www.charterarts.org
SUMMARY:Senior Art Exhibit
DESCRIPTION:2013 Annual Senior Art Exhibit Opening Reception  Friday\, April 26\, 2013 7:30-9:30 PM  FREE Admission  Exhibit runs through May 26\, 2013  Antonio Salemme Foundation  542 Hamilton Street\, Suite 203  Allentown\, PA 18101    &nbsp;    
LOCATION:
URL:https://www.charterarts.org/event/senior-art-exhibit-2/
END:VEVENT
END:VCALENDAR