BEGIN:VCALENDAR
VERSION:2.0
PRODID:-//Lehigh Valley Charter High School for the Arts//NONSGML v1.0//EN
CALSCALE:GREGORIAN
METHOD:PUBLISH
X-WR-CALNAME:Lehigh Valley Charter High School for the Arts
X-ORIGINAL-URL:https://www.charterarts.org
X-WR-CALDESC:Events for Lehigh Valley Charter High School for the Arts
X-WR-TIMEZONE:America/New_York
BEGIN:VEVENT
DTSTART;VALUE=DATE-TIME:20121210T190000
DTEND;VALUE=DATE-TIME:20121210T203000
DTSTAMP:20260419T143636
CREATED:20120909T111020
LAST-MODIFIED:20120909T111020
UID:3863@https://www.charterarts.org
SUMMARY:Senior Financial Aid Program
DESCRIPTION:
LOCATION:
URL:https://www.charterarts.org/event/senior-financial-aid-program/
END:VEVENT
END:VCALENDAR