BEGIN:VCALENDAR
VERSION:2.0
PRODID:-//Lehigh Valley Charter High School for the Arts//NONSGML v1.0//EN
CALSCALE:GREGORIAN
METHOD:PUBLISH
X-WR-CALNAME:Lehigh Valley Charter High School for the Arts
X-ORIGINAL-URL:https://www.charterarts.org
X-WR-CALDESC:Events for Lehigh Valley Charter High School for the Arts
X-WR-TIMEZONE:America/New_York
BEGIN:VEVENT
DTSTART;VALUE=DATE-TIME:20160526T190000
DTEND;VALUE=DATE-TIME:20160526T210000
DTSTAMP:20260420T224502
CREATED:20151207T150843
LAST-MODIFIED:20160521T194944
UID:11088@https://www.charterarts.org
SUMMARY:Senior Instrumental Showcase
DESCRIPTION:CLICK HERE TO PURCHASE TICKETS
LOCATION:
URL:https://www.charterarts.org/event/senior-instrumental-showcase/
END:VEVENT
END:VCALENDAR