BEGIN:VCALENDAR
VERSION:2.0
PRODID:-//Lehigh Valley Charter High School for the Arts//NONSGML v1.0//EN
CALSCALE:GREGORIAN
METHOD:PUBLISH
X-WR-CALNAME:Lehigh Valley Charter High School for the Arts
X-ORIGINAL-URL:https://www.charterarts.org
X-WR-CALDESC:Events for Lehigh Valley Charter High School for the Arts
X-WR-TIMEZONE:America/New_York
BEGIN:VEVENT
DTSTART;VALUE=DATE-TIME:20170602T190000
DTEND;VALUE=DATE-TIME:20170602T200000
DTSTAMP:20260420T122654
CREATED:20170424T100848
LAST-MODIFIED:20170424T100916
UID:13945@https://www.charterarts.org
SUMMARY:Senior Send-Off
DESCRIPTION:Senior Class Send Off    This event will take place in the Commons Cafe at 7:00pm.    This event is coordinated by Mr. Chaban.    &nbsp;
LOCATION:
URL:https://www.charterarts.org/event/senior-send-off-4/
END:VEVENT
END:VCALENDAR