BEGIN:VCALENDAR
VERSION:2.0
PRODID:-//Lehigh Valley Charter High School for the Arts//NONSGML v1.0//EN
CALSCALE:GREGORIAN
METHOD:PUBLISH
X-WR-CALNAME:Lehigh Valley Charter High School for the Arts
X-ORIGINAL-URL:https://www.charterarts.org
X-WR-CALDESC:Events for Lehigh Valley Charter High School for the Arts
X-WR-TIMEZONE:America/New_York
BEGIN:VEVENT
DTSTART;VALUE=DATE-TIME:20170602T190000
DTEND;VALUE=DATE-TIME:20170602T210000
DTSTAMP:20260422T103757
CREATED:20170103T160407
LAST-MODIFIED:20170524T114428
UID:13510@https://www.charterarts.org
SUMMARY:Senior Student Art Exhibit
DESCRIPTION:This exhibit will be on display in the Corpora Art Gallery from June 2-11.    First Friday Reception:  June 2\, 2017
LOCATION:
URL:https://www.charterarts.org/event/senior-student-art-exhibit/
END:VEVENT
END:VCALENDAR