BEGIN:VCALENDAR
VERSION:2.0
PRODID:-//Lehigh Valley Charter High School for the Arts//NONSGML v1.0//EN
CALSCALE:GREGORIAN
METHOD:PUBLISH
X-WR-CALNAME:Lehigh Valley Charter High School for the Arts
X-ORIGINAL-URL:https://www.charterarts.org
X-WR-CALDESC:Events for Lehigh Valley Charter High School for the Arts
X-WR-TIMEZONE:America/New_York
BEGIN:VEVENT
DTSTART;VALUE=DATE-TIME:20150508T190000
DTEND;VALUE=DATE-TIME:20150508T210000
DTSTAMP:20260420T130904
CREATED:20150116T145118
LAST-MODIFIED:20150420T151600
UID:9266@https://www.charterarts.org
SUMMARY:Senior Theatre Showcase
DESCRIPTION:      var VendiniTicketLineLaunch = VendiniTicketLineLaunch || {};  VendiniTicketLineLaunch['2e5df71abe86aef677296dcfb35ecf9e'] = VendiniTicketLineLaunch['2e5df71abe86aef677296dcfb35ecf9e'] || [];  (function() {   VendiniTicketLineLaunch['2e5df71abe86aef677296dcfb35ecf9e'].push({id: '6a40995ba594f755793fef155d6a8dda'\, type:'tix'\, eventID:'5ec98d1fb0c908e9212fadacc69715ec'\, image:'buy-tickets-now.png'});   if (document.body) {var buttonContainer = document.getElementById("vendiniTicketLineLaunch_6a40995ba594f755793fef155d6a8dda").parentNode;}   else {document.write(''); buttonContainer = document.body;}   var span = document.createElement("span");   span.id = "6a40995ba594f755793fef155d6a8dda";   buttonContainer.appendChild(span);   if (!document.getElementById('VendiniTicketLineLaunch_2e5df71abe86aef677296dcfb35ecf9e')) {    var script = document.createElement('script'); script.id = 'VendiniTicketLineLaunch_2e5df71abe86aef677296dcfb35ecf9e'; script.type = 'text/javascript'; script.async = true; script.src = 'https://www.vendini.com/ticketLine/js/launch/2e5df71abe86aef677296dcfb35ecf9e';    buttonContainer.appendChild(script);   }  })();      
LOCATION:
URL:https://www.charterarts.org/event/senior-theatre-showcase-3/
END:VEVENT
END:VCALENDAR