BEGIN:VCALENDAR
VERSION:2.0
PRODID:-//Lehigh Valley Charter High School for the Arts//NONSGML v1.0//EN
CALSCALE:GREGORIAN
METHOD:PUBLISH
X-WR-CALNAME:Lehigh Valley Charter High School for the Arts
X-ORIGINAL-URL:https://www.charterarts.org
X-WR-CALDESC:Events for Lehigh Valley Charter High School for the Arts
X-WR-TIMEZONE:America/New_York
BEGIN:VEVENT
DTSTART;VALUE=DATE-TIME:20180716T093000
DTEND;VALUE=DATE-TIME:20180720T120000
DTSTAMP:20260419T175509
CREATED:20180502T123620
LAST-MODIFIED:20180703T104006
UID:15835@https://www.charterarts.org
SUMMARY:Shakespeare Intensive Workshop
DESCRIPTION:July 16-20    9:30-12:00pm daily    READ MORE
LOCATION:
URL:https://www.charterarts.org/event/shakespeare-intensive-workshop-2/
END:VEVENT
END:VCALENDAR