BEGIN:VCALENDAR
VERSION:2.0
PRODID:-//Lehigh Valley Charter High School for the Arts//NONSGML v1.0//EN
CALSCALE:GREGORIAN
METHOD:PUBLISH
X-WR-CALNAME:Lehigh Valley Charter High School for the Arts
X-ORIGINAL-URL:https://www.charterarts.org
X-WR-CALDESC:Events for Lehigh Valley Charter High School for the Arts
X-WR-TIMEZONE:America/New_York
BEGIN:VEVENT
DTSTART;VALUE=DATE-TIME:20170126T190000
DTEND;VALUE=DATE-TIME:20170126T203000
DTSTAMP:20260420T205129
CREATED:20161212T113805
LAST-MODIFIED:20170111T153552
UID:13278@https://www.charterarts.org
SUMMARY:Songwriters Cafe
DESCRIPTION:    This event takes place at Godfrey Daniels.  Reservations are suggested: www.godfreydaniels.org.    &nbsp;    &nbsp;    &nbsp;    &nbsp;
LOCATION:
URL:https://www.charterarts.org/event/songwriters-cafe-6/
END:VEVENT
END:VCALENDAR