BEGIN:VCALENDAR
VERSION:2.0
PRODID:-//Lehigh Valley Charter High School for the Arts//NONSGML v1.0//EN
CALSCALE:GREGORIAN
METHOD:PUBLISH
X-WR-CALNAME:Lehigh Valley Charter High School for the Arts
X-ORIGINAL-URL:https://www.charterarts.org
X-WR-CALDESC:Events for Lehigh Valley Charter High School for the Arts
X-WR-TIMEZONE:America/New_York
BEGIN:VEVENT
DTSTART;VALUE=DATE-TIME:20171005T190000
DTEND;VALUE=DATE-TIME:20171005T210000
DTSTAMP:20260420T120359
CREATED:20170807T131208
LAST-MODIFIED:20170928T154336
UID:14645@https://www.charterarts.org
SUMMARY:Songwriters Cafe
DESCRIPTION:This event takes place at Godfrey Daniels.  Reservations are suggested and must be made through Godfrey Daniels. www.godfreydaniels.org
LOCATION:
URL:https://www.charterarts.org/event/songwriters-cafe-7/
END:VEVENT
END:VCALENDAR