BEGIN:VCALENDAR
VERSION:2.0
PRODID:-//Lehigh Valley Charter High School for the Arts//NONSGML v1.0//EN
CALSCALE:GREGORIAN
METHOD:PUBLISH
X-WR-CALNAME:Lehigh Valley Charter High School for the Arts
X-ORIGINAL-URL:https://www.charterarts.org
X-WR-CALDESC:Events for Lehigh Valley Charter High School for the Arts
X-WR-TIMEZONE:America/New_York
BEGIN:VEVENT
DTSTART;VALUE=DATE-TIME:20150521T190000
DTEND;VALUE=DATE-TIME:20150521T210000
DTSTAMP:20260422T135928
CREATED:20150120T134931
LAST-MODIFIED:20150120T140704
UID:9334@https://www.charterarts.org
SUMMARY:Songwriters Cafe at Godfrey Daniels
DESCRIPTION:This event is coordinated through Mr. Brown.
LOCATION:Godfrey Daniels, 7 E. 4th Street, Bethlehem, United States
URL:https://www.charterarts.org/event/songwriters-cafe-godfrey-daniels/
END:VEVENT
END:VCALENDAR