BEGIN:VCALENDAR
VERSION:2.0
PRODID:-//Lehigh Valley Charter High School for the Arts//NONSGML v1.0//EN
CALSCALE:GREGORIAN
METHOD:PUBLISH
X-WR-CALNAME:Lehigh Valley Charter High School for the Arts
X-ORIGINAL-URL:https://www.charterarts.org
X-WR-CALDESC:Events for Lehigh Valley Charter High School for the Arts
X-WR-TIMEZONE:America/New_York
BEGIN:VEVENT
DTSTART;VALUE=DATE-TIME:20140508T070000
DTEND;VALUE=DATE-TIME:20140508T210000
DTSTAMP:20260422T121641
CREATED:20140507T133338
LAST-MODIFIED:20140507T133338
UID:7077@https://www.charterarts.org
SUMMARY:Songwriters Cafe
DESCRIPTION:Come and experience Charter Arts students\, from all artistic disciplines\, perform original songs.    Reservations are suggested.    Tickets are purchased through Godfrey Daniels.  www.Godfreydaniels.org
LOCATION:Godfrey Daniels, 7 E. 4th Street, Bethlehem, PA, United States, 18015
URL:https://www.charterarts.org/event/songwriters-cafe/
END:VEVENT
END:VCALENDAR