BEGIN:VCALENDAR
VERSION:2.0
PRODID:-//Lehigh Valley Charter High School for the Arts//NONSGML v1.0//EN
CALSCALE:GREGORIAN
METHOD:PUBLISH
X-WR-CALNAME:Lehigh Valley Charter High School for the Arts
X-ORIGINAL-URL:https://www.charterarts.org
X-WR-CALDESC:Events for Lehigh Valley Charter High School for the Arts
X-WR-TIMEZONE:America/New_York
BEGIN:VEVENT
DTSTART;VALUE=DATE-TIME:20140521T190000
DTEND;VALUE=DATE-TIME:20140521T210000
DTSTAMP:20260419T133641
CREATED:20140328T091218
LAST-MODIFIED:20140512T085314
UID:6895@https://www.charterarts.org
SUMMARY:Spring Concert Series, Part 2
DESCRIPTION:An evening of performances by The Lehigh Valley Charter High School for the Arts Instrumental  Music Department\, including:   Wind Ensemble\, Orchestra\, and Percussion Ensemble.    PLEASE NOTE:  The venue for this Wednesday evening concert will be held at Foy Hall at Moravian College.  Tuesday evening's concert for the Vocal Music Department will be held at St. Paul's Lutheran Church.    *If you purchase and attend Tuesday evening's vocal concert\, your ticket stub will be honored at Wednesday evening's instrumental concert.            //     
LOCATION:Foy Hall - Moravian College, Main Street, Bethlehem, PA, United States
URL:https://www.charterarts.org/event/spring-concert-series-part-2/
END:VEVENT
END:VCALENDAR