BEGIN:VCALENDAR
VERSION:2.0
PRODID:-//Lehigh Valley Charter High School for the Arts//NONSGML v1.0//EN
CALSCALE:GREGORIAN
METHOD:PUBLISH
X-WR-CALNAME:Lehigh Valley Charter High School for the Arts
X-ORIGINAL-URL:https://www.charterarts.org
X-WR-CALDESC:Events for Lehigh Valley Charter High School for the Arts
X-WR-TIMEZONE:America/New_York
BEGIN:VEVENT
DTSTART;VALUE=DATE-TIME:20150518T190000
DTEND;VALUE=DATE-TIME:20150518T190000
DTSTAMP:20260419T132810
CREATED:20150116T152234
LAST-MODIFIED:20150424T162433
UID:9285@https://www.charterarts.org
SUMMARY:Spring Vocal Concert
DESCRIPTION:Foy Hall\, Moravian College    Monday\, May 18    The combined choirs of the vocal department present: "REQUIEM" by contemporary British composer John Rutter featuring student soloists of the vocal department\, and instrumental ensemble with organ.  There will be NO admission to May 19th concert with stub from 18th concert as in previous years!    TICKETS FOR MAY 18 CONCERT:    This show may sell-out\, so be sure to get tickets early!!    &nbsp;    &nbsp;          var VendiniTicketLineLaunch = VendiniTicketLineLaunch || {};  VendiniTicketLineLaunch['2e5df71abe86aef677296dcfb35ecf9e'] = VendiniTicketLineLaunch['2e5df71abe86aef677296dcfb35ecf9e'] || [];  (function() {   VendiniTicketLineLaunch['2e5df71abe86aef677296dcfb35ecf9e'].push({id: 'ed364593097baa75e67e6f268001bb76'\, type:'tix'\, eventID:'29886ba1bf8d8ca46be0ab27ddb8699e'\, image:'buy-tickets-now.png'});   if (document.body) {var buttonContainer = document.getElementById("vendiniTicketLineLaunch_ed364593097baa75e67e6f268001bb76").parentNode;}   else {document.write(''); buttonContainer = document.body;}   var span = document.createElement("span");   span.id = "ed364593097baa75e67e6f268001bb76";   buttonContainer.appendChild(span);   if (!document.getElementById('VendiniTicketLineLaunch_2e5df71abe86aef677296dcfb35ecf9e')) {    var script = document.createElement('script'); script.id = 'VendiniTicketLineLaunch_2e5df71abe86aef677296dcfb35ecf9e'; script.type = 'text/javascript'; script.async = true; script.src = 'https://www.vendini.com/ticketLine/js/launch/2e5df71abe86aef677296dcfb35ecf9e';    buttonContainer.appendChild(script);   }  })();          
LOCATION:Foy Hall, Moravian College
URL:https://www.charterarts.org/event/spring-concert-series/
END:VEVENT
END:VCALENDAR