BEGIN:VCALENDAR
VERSION:2.0
PRODID:-//Lehigh Valley Charter High School for the Arts//NONSGML v1.0//EN
CALSCALE:GREGORIAN
METHOD:PUBLISH
X-WR-CALNAME:Lehigh Valley Charter High School for the Arts
X-ORIGINAL-URL:https://www.charterarts.org
X-WR-CALDESC:Events for Lehigh Valley Charter High School for the Arts
X-WR-TIMEZONE:America/New_York
BEGIN:VEVENT
DTSTART;VALUE=DATE-TIME:20150415T190000
DTEND;VALUE=DATE-TIME:20150418T190000
DTSTAMP:20260420T122459
CREATED:20141222T171325
LAST-MODIFIED:20150402T125137
UID:9105@https://www.charterarts.org
SUMMARY:Spring Musical: Blood Brothers
DESCRIPTION:Evening Performances:  April 15-18 at 7:00pm    Matinee Performance:  April 19 at 2:00pm    &nbsp;            //     
LOCATION:
URL:https://www.charterarts.org/event/spring-musical-blood-brothers/
END:VEVENT
END:VCALENDAR