BEGIN:VCALENDAR
VERSION:2.0
PRODID:-//Lehigh Valley Charter High School for the Arts//NONSGML v1.0//EN
CALSCALE:GREGORIAN
METHOD:PUBLISH
X-WR-CALNAME:Lehigh Valley Charter High School for the Arts
X-ORIGINAL-URL:https://www.charterarts.org
X-WR-CALDESC:Events for Lehigh Valley Charter High School for the Arts
X-WR-TIMEZONE:America/New_York
BEGIN:VEVENT
DTSTART;VALUE=DATE-TIME:20150118T140000
DTEND;VALUE=DATE-TIME:20150118T150000
DTSTAMP:20260420T095251
CREATED:20141215T142522
LAST-MODIFIED:20141215T142522
UID:8903@https://www.charterarts.org
SUMMARY:Steel Stacks Performance
DESCRIPTION:
LOCATION:ArtsQuest Center at Steel Stacks
URL:https://www.charterarts.org/event/steel-stacks-performance-2/
END:VEVENT
END:VCALENDAR