BEGIN:VCALENDAR
VERSION:2.0
PRODID:-//Lehigh Valley Charter High School for the Arts//NONSGML v1.0//EN
CALSCALE:GREGORIAN
METHOD:PUBLISH
X-WR-CALNAME:Lehigh Valley Charter High School for the Arts
X-ORIGINAL-URL:https://www.charterarts.org
X-WR-CALDESC:Events for Lehigh Valley Charter High School for the Arts
X-WR-TIMEZONE:America/New_York
BEGIN:VEVENT
DTSTART;VALUE=DATE-TIME:20140921T140000
DTEND;VALUE=DATE-TIME:20140921T150000
DTSTAMP:20260420T130752
CREATED:20140818T185019
LAST-MODIFIED:20140818T185852
UID:7627@https://www.charterarts.org
SUMMARY:Community Performance- Steel Stacks
DESCRIPTION:Select Instrumental and Voice Majors perform at ArtsQuest Center at SteelStacks\, every third Sunday of the month.    FREE CONCERT.    Community Outreach Performance Director- Mr. Chet Brown
LOCATION:
URL:https://www.charterarts.org/event/steel-stacks-performance/
END:VEVENT
END:VCALENDAR