BEGIN:VCALENDAR
VERSION:2.0
PRODID:-//Lehigh Valley Charter High School for the Arts//NONSGML v1.0//EN
CALSCALE:GREGORIAN
METHOD:PUBLISH
X-WR-CALNAME:Lehigh Valley Charter High School for the Arts
X-ORIGINAL-URL:https://www.charterarts.org
X-WR-CALDESC:Events for Lehigh Valley Charter High School for the Arts
X-WR-TIMEZONE:America/New_York
BEGIN:VEVENT
DTSTART;VALUE=DATE-TIME:20160918T140000
DTEND;VALUE=DATE-TIME:20160918T150000
DTSTAMP:20260419T162351
CREATED:20160914T115336
LAST-MODIFIED:20160914T115336
UID:12697@https://www.charterarts.org
SUMMARY:SteelStacks Performance
DESCRIPTION:Free Concert performed by Charter Arts students.
LOCATION:
URL:https://www.charterarts.org/event/steelstacks-performance-6/
END:VEVENT
END:VCALENDAR