BEGIN:VCALENDAR
VERSION:2.0
PRODID:-//Lehigh Valley Charter High School for the Arts//NONSGML v1.0//EN
CALSCALE:GREGORIAN
METHOD:PUBLISH
X-WR-CALNAME:Lehigh Valley Charter High School for the Arts
X-ORIGINAL-URL:https://www.charterarts.org
X-WR-CALDESC:Events for Lehigh Valley Charter High School for the Arts
X-WR-TIMEZONE:America/New_York
BEGIN:VEVENT
DTSTART;VALUE=DATE:20140915
DTEND;VALUE=DATE:20140916
DTSTAMP:20260424T083013
CREATED:20140827T141147
LAST-MODIFIED:20140827T141147
UID:8179@https://www.charterarts.org
SUMMARY:Student Council General Meeting
DESCRIPTION:At Lunch in Room #106
LOCATION:
URL:https://www.charterarts.org/event/student-council-general-meeting/
END:VEVENT
END:VCALENDAR