BEGIN:VCALENDAR
VERSION:2.0
PRODID:-//Lehigh Valley Charter High School for the Arts//NONSGML v1.0//EN
CALSCALE:GREGORIAN
METHOD:PUBLISH
X-WR-CALNAME:Lehigh Valley Charter High School for the Arts
X-ORIGINAL-URL:https://www.charterarts.org
X-WR-CALDESC:Events for Lehigh Valley Charter High School for the Arts
X-WR-TIMEZONE:America/New_York
BEGIN:VEVENT
DTSTART;VALUE=DATE-TIME:20200720T093000
DTEND;VALUE=DATE-TIME:20200724T110000
DTSTAMP:20260420T095747
CREATED:20200617T123142
LAST-MODIFIED:20200617T123332
UID:19773@https://www.charterarts.org
SUMMARY:Summer Academy: Summer Screenwriting Experience
DESCRIPTION:Summer Screenwriting Experience  (VIRTUAL)  This workshop is part of Charter Arts' Summer Academy\,  a program of arts enrichment workshops that is open to the community.    Session Dates: July 20-24  Session Time: 9:30 AM-11:00 AM daily  Fee: $135 ($10 off if registered by June 25\, 2020)  About the Instructor: Heath Mensher    This fun summer workshop\, taught by Literary Arts faculty member\, Heath Mensher\,  is ideal for the young film buff or the young aspiring screenwriter as an entryway into the ‘reading’ and comprehension of film as a language. Exercises will include photo prompt writing\, reactions\, and live google-document discussion on the “short film of the day\,” character creation\, character motivations\, script tricks and philosophies\, music incorporation\, and camera movement as narrative and storytelling. Please note that this is not a filmmaking workshop.  Open to children entering 7th-9th grades (6th grade may be considered).    To Read More about the program\, registration\, etc:  CLICK HERE
LOCATION:
URL:https://www.charterarts.org/event/summer-academy-summer-screenwriting-experience/
END:VEVENT
END:VCALENDAR