BEGIN:VCALENDAR
VERSION:2.0
PRODID:-//Lehigh Valley Charter High School for the Arts//NONSGML v1.0//EN
CALSCALE:GREGORIAN
METHOD:PUBLISH
X-WR-CALNAME:Lehigh Valley Charter High School for the Arts
X-ORIGINAL-URL:https://www.charterarts.org
X-WR-CALDESC:Events for Lehigh Valley Charter High School for the Arts
X-WR-TIMEZONE:America/New_York
BEGIN:VEVENT
DTSTART;VALUE=DATE-TIME:20160711T163000
DTEND;VALUE=DATE-TIME:20160711T193000
DTSTAMP:20260419T131551
CREATED:20160606T152445
LAST-MODIFIED:20160606T155415
UID:12047@https://www.charterarts.org
SUMMARY:Summer Dance
DESCRIPTION:Monday Nights:    4:30-6:00pm  Intermediate/Advanced Ballet    4:30-6:00pm Basic Jazz    6:00- 7:30pm   Intermediate/Advanced Jazz    6:00-7:30pm  Stretch Class (all levels)    Download Dance Class Fees and Registration Form    These classes are part of the 2016 Summer Academy\, a program of arts enrichment workshops open to the community.
LOCATION:
URL:https://www.charterarts.org/event/summer-dance-2/
END:VEVENT
END:VCALENDAR