BEGIN:VCALENDAR
VERSION:2.0
PRODID:-//Lehigh Valley Charter High School for the Arts//NONSGML v1.0//EN
CALSCALE:GREGORIAN
METHOD:PUBLISH
X-WR-CALNAME:Lehigh Valley Charter High School for the Arts
X-ORIGINAL-URL:https://www.charterarts.org
X-WR-CALDESC:Events for Lehigh Valley Charter High School for the Arts
X-WR-TIMEZONE:America/New_York
BEGIN:VEVENT
DTSTART;VALUE=DATE-TIME:20160621T163000
DTEND;VALUE=DATE-TIME:20160621T193000
DTSTAMP:20260424T161208
CREATED:20160606T154948
LAST-MODIFIED:20160606T155730
UID:12072@https://www.charterarts.org
SUMMARY:Summer Dance
DESCRIPTION:Tuesday Nights:    4:30-6:00pm  Intermediate/Advanced Ballet    4:30-6:00pm Basic Modern    6:00- 7:30pm   Intermediate/Advanced Modern    6:00-7:30pm  Basic Ballet    Download Dance Class Fees and Registration Form    These classes are part of the 2016 Summer Academy\, a program of arts enrichment workshops open to the community.    &nbsp;
LOCATION:
URL:https://www.charterarts.org/event/summer-dance-6/
END:VEVENT
END:VCALENDAR