BEGIN:VCALENDAR
VERSION:2.0
PRODID:-//Lehigh Valley Charter High School for the Arts//NONSGML v1.0//EN
CALSCALE:GREGORIAN
METHOD:PUBLISH
X-WR-CALNAME:Lehigh Valley Charter High School for the Arts
X-ORIGINAL-URL:https://www.charterarts.org
X-WR-CALDESC:Events for Lehigh Valley Charter High School for the Arts
X-WR-TIMEZONE:America/New_York
BEGIN:VEVENT
DTSTART;VALUE=DATE-TIME:20180730T093000
DTEND;VALUE=DATE-TIME:20180803T120000
DTSTAMP:20260422T140302
CREATED:20180715T115459
LAST-MODIFIED:20180731T145524
UID:16047@https://www.charterarts.org
SUMMARY:Teen: Acting for Commercial, TV and Film Workshop
DESCRIPTION:There are still openings in this workshop.  Call 610-868-2971 Ext. 3185 to register.    This workshop is held from 9:30am-12:00pm daily- July 30-August 3.
LOCATION:
URL:https://www.charterarts.org/event/teen-acting-commercial-tv-film-workshop/
END:VEVENT
END:VCALENDAR