BEGIN:VCALENDAR
VERSION:2.0
PRODID:-//Lehigh Valley Charter High School for the Arts//NONSGML v1.0//EN
CALSCALE:GREGORIAN
METHOD:PUBLISH
X-WR-CALNAME:Lehigh Valley Charter High School for the Arts
X-ORIGINAL-URL:https://www.charterarts.org
X-WR-CALDESC:Events for Lehigh Valley Charter High School for the Arts
X-WR-TIMEZONE:America/New_York
BEGIN:VEVENT
DTSTART;VALUE=DATE-TIME:20140728T093000
DTEND;VALUE=DATE-TIME:20140728T120000
DTSTAMP:20260420T095345
CREATED:20140709T141634
LAST-MODIFIED:20140709T141634
UID:7529@https://www.charterarts.org
SUMMARY:Teen Comedy Improvisation Workshop
DESCRIPTION:
LOCATION:
URL:https://www.charterarts.org/event/teen-comedy-improvisation-workshop/
END:VEVENT
END:VCALENDAR