BEGIN:VCALENDAR
VERSION:2.0
PRODID:-//Lehigh Valley Charter High School for the Arts//NONSGML v1.0//EN
CALSCALE:GREGORIAN
METHOD:PUBLISH
X-WR-CALNAME:Lehigh Valley Charter High School for the Arts
X-ORIGINAL-URL:https://www.charterarts.org
X-WR-CALDESC:Events for Lehigh Valley Charter High School for the Arts
X-WR-TIMEZONE:America/New_York
BEGIN:VEVENT
DTSTART;VALUE=DATE-TIME:20121212T193000
DTEND;VALUE=DATE-TIME:20121216T160000
DTSTAMP:20260419T131721
CREATED:20120907T203642
LAST-MODIFIED:20120907T204205
UID:3581@https://www.charterarts.org
SUMMARY:The Bacchae
DESCRIPTION:The Bacchae mixes history with myth to recount the story of Dionysus’s unwelcomed arrival in Greece. The liberating God of wine and revelry is feared and opposed by Pentheus\, the reigning king of Thebes. When Pentheus spies upon the divine rights of Dionysus and his band of female worshippers\, he meets with a rather gory and shocking end. Dr. Nicholas Rudall’s contemporary translation beautifully maintains the vivid imagery and poetic structure of Euripides’ ancient text.    Wednesday\, December 12 - 7:30pm  Thursday\, December 13 - 7:30pm  Friday\, December 14 - 7:30pm  Saturday\, December 15 - 2:00pm  Saturday\, December 15 - 7:30pm  Saturday\, December 16 - 2:00pm    
LOCATION:LVPA - Black Box Theatre, 675 East Broad Street, Bethlehem, PA, United States, 18018
URL:https://www.charterarts.org/event/the-bacchae/
END:VEVENT
END:VCALENDAR