BEGIN:VCALENDAR
VERSION:2.0
PRODID:-//Lehigh Valley Charter High School for the Arts//NONSGML v1.0//EN
CALSCALE:GREGORIAN
METHOD:PUBLISH
X-WR-CALNAME:Lehigh Valley Charter High School for the Arts
X-ORIGINAL-URL:https://www.charterarts.org
X-WR-CALDESC:Events for Lehigh Valley Charter High School for the Arts
X-WR-TIMEZONE:America/New_York
BEGIN:VEVENT
DTSTART;VALUE=DATE-TIME:20180119T190000
DTEND;VALUE=DATE-TIME:20180121T140000
DTSTAMP:20260423T123030
CREATED:20171128T132115
LAST-MODIFIED:20171128T132600
UID:15135@https://www.charterarts.org
SUMMARY:Theatre Production- Lovers: Winners & Losers
DESCRIPTION:Evening performances on January 19 &amp; 20 at 7pm.    Matinee performance on January 21 at 2pm.    BUY TICKETS
LOCATION:
URL:https://www.charterarts.org/event/theatre-production-lovers-winners-losers/
END:VEVENT
END:VCALENDAR