BEGIN:VCALENDAR
VERSION:2.0
PRODID:-//Lehigh Valley Charter High School for the Arts//NONSGML v1.0//EN
CALSCALE:GREGORIAN
METHOD:PUBLISH
X-WR-CALNAME:Lehigh Valley Charter High School for the Arts
X-ORIGINAL-URL:https://www.charterarts.org
X-WR-CALDESC:Events for Lehigh Valley Charter High School for the Arts
X-WR-TIMEZONE:America/New_York
BEGIN:VEVENT
DTSTART;VALUE=DATE-TIME:20170309T190000
DTEND;VALUE=DATE-TIME:20170312T140000
DTSTAMP:20260419T133847
CREATED:20161212T120738
LAST-MODIFIED:20170306T114910
UID:13334@https://www.charterarts.org
SUMMARY:Theatre Production:  The Skin of our Teeth
DESCRIPTION:March 9-12    Charter Arts Black Box Theatre    Evening Performances:  March 9-11 at 7pm    Matinee Performance:  March 12 at 2pm
LOCATION:
URL:https://www.charterarts.org/event/theatre-production-skin-teeth/
END:VEVENT
END:VCALENDAR