BEGIN:VCALENDAR
VERSION:2.0
PRODID:-//Lehigh Valley Charter High School for the Arts//NONSGML v1.0//EN
CALSCALE:GREGORIAN
METHOD:PUBLISH
X-WR-CALNAME:Lehigh Valley Charter High School for the Arts
X-ORIGINAL-URL:https://www.charterarts.org
X-WR-CALDESC:Events for Lehigh Valley Charter High School for the Arts
X-WR-TIMEZONE:America/New_York
BEGIN:VEVENT
DTSTART;VALUE=DATE-TIME:20160210T080000
DTEND;VALUE=DATE-TIME:20160210T170000
DTSTAMP:20260420T033953
CREATED:20160209T102657
LAST-MODIFIED:20160209T103106
UID:11382@https://www.charterarts.org
SUMMARY:Touring Choir at St. Stephen's Cathedral
DESCRIPTION:The Touring Choir will perform at St. Stephen's Cathedral in Wilkes-Barre\, PA.    Event time 11:30am-1:00pm.    &nbsp;    &nbsp;
LOCATION:
URL:https://www.charterarts.org/event/touring-choir-at-st-stephens-cathedral/
END:VEVENT
END:VCALENDAR