BEGIN:VCALENDAR
VERSION:2.0
PRODID:-//Lehigh Valley Charter High School for the Arts//NONSGML v1.0//EN
CALSCALE:GREGORIAN
METHOD:PUBLISH
X-WR-CALNAME:Lehigh Valley Charter High School for the Arts
X-ORIGINAL-URL:https://www.charterarts.org
X-WR-CALDESC:Events for Lehigh Valley Charter High School for the Arts
X-WR-TIMEZONE:America/New_York
BEGIN:VEVENT
DTSTART;VALUE=DATE-TIME:20150430T190000
DTEND;VALUE=DATE-TIME:20150430T210000
DTSTAMP:20260422T104232
CREATED:20150120T134637
LAST-MODIFIED:20150428T152324
UID:9325@https://www.charterarts.org
SUMMARY:Two Roses and a Thorn - CANCELLED
DESCRIPTION:Enjoy an evening of music performed by Charter Arts faculty members Lynn Flickinger\, Kim Seifert and Chet Brown.
LOCATION:Godfrey Daniels, 7 E. 4th Street, Bethlehem, United States
URL:https://www.charterarts.org/event/two-roses-thorn-godfrey-daniels-2/
END:VEVENT
END:VCALENDAR