BEGIN:VCALENDAR
VERSION:2.0
PRODID:-//Lehigh Valley Charter High School for the Arts//NONSGML v1.0//EN
CALSCALE:GREGORIAN
METHOD:PUBLISH
X-WR-CALNAME:Lehigh Valley Charter High School for the Arts
X-ORIGINAL-URL:https://www.charterarts.org
X-WR-CALDESC:Events for Lehigh Valley Charter High School for the Arts
X-WR-TIMEZONE:America/New_York
BEGIN:VEVENT
DTSTART;VALUE=DATE-TIME:20161004T183000
DTEND;VALUE=DATE-TIME:20161004T200000
DTSTAMP:20260424T100131
CREATED:20160909T093630
LAST-MODIFIED:20160909T093726
UID:12641@https://www.charterarts.org
SUMMARY:Venture Academy Fall Session #1
DESCRIPTION:https://www.charterarts.org/venture-academy-2016-adults/
LOCATION:
URL:https://www.charterarts.org/event/venture-academy-fall-session-1/
END:VEVENT
END:VCALENDAR