BEGIN:VCALENDAR
VERSION:2.0
PRODID:-//Lehigh Valley Charter High School for the Arts//NONSGML v1.0//EN
CALSCALE:GREGORIAN
METHOD:PUBLISH
X-WR-CALNAME:Lehigh Valley Charter High School for the Arts
X-ORIGINAL-URL:https://www.charterarts.org
X-WR-CALDESC:Events for Lehigh Valley Charter High School for the Arts
X-WR-TIMEZONE:America/New_York
BEGIN:VEVENT
DTSTART;VALUE=DATE-TIME:20161101T183000
DTEND;VALUE=DATE-TIME:20161101T200000
DTSTAMP:20260420T130628
CREATED:20160909T094153
LAST-MODIFIED:20160909T094810
UID:12661@https://www.charterarts.org
SUMMARY:Venture Academy Fall Session #5
DESCRIPTION:https://www.charterarts.org/venture-academy-2016-adults/
LOCATION:
URL:https://www.charterarts.org/event/venture-academy-session-5/
END:VEVENT
END:VCALENDAR