BEGIN:VCALENDAR
VERSION:2.0
PRODID:-//Lehigh Valley Charter High School for the Arts//NONSGML v1.0//EN
CALSCALE:GREGORIAN
METHOD:PUBLISH
X-WR-CALNAME:Lehigh Valley Charter High School for the Arts
X-ORIGINAL-URL:https://www.charterarts.org
X-WR-CALDESC:Events for Lehigh Valley Charter High School for the Arts
X-WR-TIMEZONE:America/New_York
BEGIN:VEVENT
DTSTART;VALUE=DATE-TIME:20200717T100000
DTEND;VALUE=DATE-TIME:20200717T224500
DTSTAMP:20260422T091148
CREATED:20200713T135908
LAST-MODIFIED:20200713T140038
UID:19920@https://www.charterarts.org
SUMMARY:Virtual Admissions Event
DESCRIPTION:Are you thinking about auditioning at Charter Arts?    Prospective students and their families are invited to attend a virtual admissions event:  COFFEE TALK WITH THE DIRECTOR OF ADMISSIONS on Friday\, July 17 at 10 AM.    This 45-minute session is a great opportunity to learn more about our school and to ask questions.    
LOCATION:
URL:https://www.charterarts.org/event/virtual-admissions-event/
END:VEVENT
END:VCALENDAR