BEGIN:VCALENDAR
VERSION:2.0
PRODID:-//Lehigh Valley Charter High School for the Arts//NONSGML v1.0//EN
CALSCALE:GREGORIAN
METHOD:PUBLISH
X-WR-CALNAME:Lehigh Valley Charter High School for the Arts
X-ORIGINAL-URL:https://www.charterarts.org
X-WR-CALDESC:Events for Lehigh Valley Charter High School for the Arts
X-WR-TIMEZONE:America/New_York
BEGIN:VEVENT
DTSTART;VALUE=DATE-TIME:20120905T190000
DTEND;VALUE=DATE-TIME:20120905T200000
DTSTAMP:20260422T171932
CREATED:20120908T115237
LAST-MODIFIED:20120908T120351
UID:3776@https://www.charterarts.org
SUMMARY:Visual Art Department Parent Meeting
DESCRIPTION:
LOCATION:
URL:https://www.charterarts.org/event/visual-art-department-parent-meeting/
END:VEVENT
END:VCALENDAR