BEGIN:VCALENDAR
VERSION:2.0
PRODID:-//Lehigh Valley Charter High School for the Arts//NONSGML v1.0//EN
CALSCALE:GREGORIAN
METHOD:PUBLISH
X-WR-CALNAME:Lehigh Valley Charter High School for the Arts
X-ORIGINAL-URL:https://www.charterarts.org
X-WR-CALDESC:Events for Lehigh Valley Charter High School for the Arts
X-WR-TIMEZONE:America/New_York
BEGIN:VEVENT
DTSTART;VALUE=DATE-TIME:20161219T120000
DTEND;VALUE=DATE-TIME:20161219T130000
DTSTAMP:20260419T144031
CREATED:20161118T095135
LAST-MODIFIED:20161118T095135
UID:13124@https://www.charterarts.org
SUMMARY:Vocal Master Class:  Megan Durham
DESCRIPTION:Vocal Master Class with Megan Durham.  Vocal Health.    This event is coordinated through Mr. Diehl.    &nbsp;
LOCATION:
URL:https://www.charterarts.org/event/vocal-master-class-megan-durham/
END:VEVENT
END:VCALENDAR