BEGIN:VCALENDAR
VERSION:2.0
PRODID:-//Lehigh Valley Charter High School for the Arts//NONSGML v1.0//EN
CALSCALE:GREGORIAN
METHOD:PUBLISH
X-WR-CALNAME:Lehigh Valley Charter High School for the Arts
X-ORIGINAL-URL:https://www.charterarts.org
X-WR-CALDESC:Events for Lehigh Valley Charter High School for the Arts
X-WR-TIMEZONE:America/New_York
BEGIN:VEVENT
DTSTART;VALUE=DATE-TIME:20161021T170000
DTEND;VALUE=DATE-TIME:20161021T200000
DTSTAMP:20260422T135650
CREATED:20161019T135025
LAST-MODIFIED:20161019T135025
UID:12905@https://www.charterarts.org
SUMMARY:Vocal Master Class w/ Ola Gjeilo
DESCRIPTION:
LOCATION:
URL:https://www.charterarts.org/event/vocal-master-class-w-ola-gjeilo/
END:VEVENT
END:VCALENDAR