BEGIN:VCALENDAR
VERSION:2.0
PRODID:-//Lehigh Valley Charter High School for the Arts//NONSGML v1.0//EN
CALSCALE:GREGORIAN
METHOD:PUBLISH
X-WR-CALNAME:Lehigh Valley Charter High School for the Arts
X-ORIGINAL-URL:https://www.charterarts.org
X-WR-CALDESC:Events for Lehigh Valley Charter High School for the Arts
X-WR-TIMEZONE:America/New_York
BEGIN:VEVENT
DTSTART;VALUE=DATE-TIME:20151214T070000
DTEND;VALUE=DATE-TIME:20151215T190000
DTSTAMP:20260420T162735
CREATED:20150831T134029
LAST-MODIFIED:20151116T124154
UID:10423@https://www.charterarts.org
SUMMARY:Vocal Winter Concert
DESCRIPTION:December 14 &amp; 15 at 7pm          var VendiniTicketLineLaunch = VendiniTicketLineLaunch || {};  VendiniTicketLineLaunch['2e5df71abe86aef677296dcfb35ecf9e'] = VendiniTicketLineLaunch['2e5df71abe86aef677296dcfb35ecf9e'] || [];  (function() {   VendiniTicketLineLaunch['2e5df71abe86aef677296dcfb35ecf9e'].push({id: 'da286261a77ae91155f7ae88dd8efa07'\, type:'tix'\, eventID:'39d79845cb151c9faf524e977047ee3f'\, image:'buy-tickets-now.png'});   if (document.body) {var buttonContainer = document.getElementById("vendiniTicketLineLaunch_da286261a77ae91155f7ae88dd8efa07").parentNode;}   else {document.write(''); buttonContainer = document.body;}   var span = document.createElement("span");   span.id = "da286261a77ae91155f7ae88dd8efa07";   buttonContainer.appendChild(span);   if (!document.getElementById('VendiniTicketLineLaunch_2e5df71abe86aef677296dcfb35ecf9e')) {    var script = document.createElement('script'); script.id = 'VendiniTicketLineLaunch_2e5df71abe86aef677296dcfb35ecf9e'; script.type = 'text/javascript'; script.async = true; script.src = 'https://apps.vendini.com/ticketLine/js/launch/2e5df71abe86aef677296dcfb35ecf9e';    buttonContainer.appendChild(script);   }  })();          
LOCATION:
URL:https://www.charterarts.org/event/vocal-winter-concert/
END:VEVENT
END:VCALENDAR