BEGIN:VCALENDAR
VERSION:2.0
PRODID:-//Lehigh Valley Charter High School for the Arts//NONSGML v1.0//EN
CALSCALE:GREGORIAN
METHOD:PUBLISH
X-WR-CALNAME:Lehigh Valley Charter High School for the Arts
X-ORIGINAL-URL:https://www.charterarts.org
X-WR-CALDESC:Events for Lehigh Valley Charter High School for the Arts
X-WR-TIMEZONE:America/New_York
BEGIN:VEVENT
DTSTART;VALUE=DATE-TIME:20161103T190000
DTEND;VALUE=DATE-TIME:20161103T203000
DTSTAMP:20260420T103345
CREATED:20161018T174512
LAST-MODIFIED:20161018T174512
UID:12802@https://www.charterarts.org
SUMMARY:Vocalist Cafe
DESCRIPTION:Godfrey Daniels    Reservations suggested:  www.godfreydaniels.org
LOCATION:
URL:https://www.charterarts.org/event/vocalist-cafe-5/
END:VEVENT
END:VCALENDAR