BEGIN:VCALENDAR
VERSION:2.0
PRODID:-//Lehigh Valley Charter High School for the Arts//NONSGML v1.0//EN
CALSCALE:GREGORIAN
METHOD:PUBLISH
X-WR-CALNAME:Lehigh Valley Charter High School for the Arts
X-ORIGINAL-URL:https://www.charterarts.org
X-WR-CALDESC:Events for Lehigh Valley Charter High School for the Arts
X-WR-TIMEZONE:America/New_York
BEGIN:VEVENT
DTSTART;VALUE=DATE-TIME:20171102T190000
DTEND;VALUE=DATE-TIME:20171102T210000
DTSTAMP:20260422T115447
CREATED:20170807T132302
LAST-MODIFIED:20171023T133244
UID:14674@https://www.charterarts.org
SUMMARY:Vocalist Cafe
DESCRIPTION:This event takes place at Godfrey Daniels.  Reservations are suggested\, www.godfreydaniels.org.    &nbsp;
LOCATION:
URL:https://www.charterarts.org/event/vocalist-cafe-8/
END:VEVENT
END:VCALENDAR