BEGIN:VCALENDAR
VERSION:2.0
PRODID:-//Lehigh Valley Charter High School for the Arts//NONSGML v1.0//EN
CALSCALE:GREGORIAN
METHOD:PUBLISH
X-WR-CALNAME:Lehigh Valley Charter High School for the Arts
X-ORIGINAL-URL:https://www.charterarts.org
X-WR-CALDESC:Events for Lehigh Valley Charter High School for the Arts
X-WR-TIMEZONE:America/New_York
BEGIN:VEVENT
DTSTART;VALUE=DATE-TIME:20180419T190000
DTEND;VALUE=DATE-TIME:20180419T210000
DTSTAMP:20260420T103641
CREATED:20180416T131357
LAST-MODIFIED:20180416T145603
UID:15760@https://www.charterarts.org
SUMMARY:Vocalist Cafe
DESCRIPTION:This event takes place at Godfrey Daniels.    Reservations are suggested through Godfrey Daniels\, www.godfreydaniels.org.
LOCATION:
URL:https://www.charterarts.org/event/vocalist-cafe-9/
END:VEVENT
END:VCALENDAR