BEGIN:VCALENDAR
VERSION:2.0
PRODID:-//Lehigh Valley Charter High School for the Arts//NONSGML v1.0//EN
CALSCALE:GREGORIAN
METHOD:PUBLISH
X-WR-CALNAME:Lehigh Valley Charter High School for the Arts
X-ORIGINAL-URL:https://www.charterarts.org
X-WR-CALDESC:Events for Lehigh Valley Charter High School for the Arts
X-WR-TIMEZONE:America/New_York
BEGIN:VEVENT
DTSTART;VALUE=DATE-TIME:20190314T190000
DTEND;VALUE=DATE-TIME:20190314T210000
DTSTAMP:20260420T135940
CREATED:20181015T113320
LAST-MODIFIED:20190307T085415
UID:16798@https://www.charterarts.org
SUMMARY:Vocalist Cafe at Godfrey Daniels
DESCRIPTION:
LOCATION:
URL:https://www.charterarts.org/event/vocalist-cafe-at-godfrey-daniels/
END:VEVENT
END:VCALENDAR