BEGIN:VCALENDAR
VERSION:2.0
PRODID:-//Lehigh Valley Charter High School for the Arts//NONSGML v1.0//EN
CALSCALE:GREGORIAN
METHOD:PUBLISH
X-WR-CALNAME:Lehigh Valley Charter High School for the Arts
X-ORIGINAL-URL:https://www.charterarts.org
X-WR-CALDESC:Events for Lehigh Valley Charter High School for the Arts
X-WR-TIMEZONE:America/New_York
BEGIN:VEVENT
DTSTART;VALUE=DATE-TIME:20151105T190000
DTEND;VALUE=DATE-TIME:20151105T210000
DTSTAMP:20260420T100006
CREATED:20150831T131726
LAST-MODIFIED:20151001T193917
UID:10327@https://www.charterarts.org
SUMMARY:Vocalist Cafe- Godfrey Daniels
DESCRIPTION:
LOCATION:
URL:https://www.charterarts.org/event/vocalist-cafe-godfrey-daniels-2/
END:VEVENT
END:VCALENDAR