BEGIN:VCALENDAR
VERSION:2.0
PRODID:-//Lehigh Valley Charter High School for the Arts//NONSGML v1.0//EN
CALSCALE:GREGORIAN
METHOD:PUBLISH
X-WR-CALNAME:Lehigh Valley Charter High School for the Arts
X-ORIGINAL-URL:https://www.charterarts.org
X-WR-CALDESC:Events for Lehigh Valley Charter High School for the Arts
X-WR-TIMEZONE:America/New_York
BEGIN:VEVENT
DTSTART;VALUE=DATE-TIME:20170202T190000
DTEND;VALUE=DATE-TIME:20170202T203000
DTSTAMP:20260420T211336
CREATED:20161212T114456
LAST-MODIFIED:20161212T114456
UID:13293@https://www.charterarts.org
SUMMARY:Wanda & Leo DeLong Honors Piano Recital
DESCRIPTION:
LOCATION:
URL:https://www.charterarts.org/event/wanda-leo-delong-honors-piano-recital-2/
END:VEVENT
END:VCALENDAR