BEGIN:VCALENDAR
VERSION:2.0
PRODID:-//Lehigh Valley Charter High School for the Arts//NONSGML v1.0//EN
CALSCALE:GREGORIAN
METHOD:PUBLISH
X-WR-CALNAME:Lehigh Valley Charter High School for the Arts
X-ORIGINAL-URL:https://www.charterarts.org
X-WR-CALDESC:Events for Lehigh Valley Charter High School for the Arts
X-WR-TIMEZONE:America/New_York
BEGIN:VEVENT
DTSTART;VALUE=DATE-TIME:20180201T190000
DTEND;VALUE=DATE-TIME:20180201T210000
DTSTAMP:20260420T210043
CREATED:20171206T134928
LAST-MODIFIED:20180118T174034
UID:15180@https://www.charterarts.org
SUMMARY:Wanda & Leo DeLong Honors Piano Recital
DESCRIPTION:This event takes place in the Corpora Art Gallery\, located on the school campus.    This is a non-ticketed event.
LOCATION:
URL:https://www.charterarts.org/event/wanda-leo-delong-honors-piano-recital-3/
END:VEVENT
END:VCALENDAR