BEGIN:VCALENDAR
VERSION:2.0
PRODID:-//Lehigh Valley Charter High School for the Arts//NONSGML v1.0//EN
CALSCALE:GREGORIAN
METHOD:PUBLISH
X-WR-CALNAME:Lehigh Valley Charter High School for the Arts
X-ORIGINAL-URL:https://www.charterarts.org
X-WR-CALDESC:Events for Lehigh Valley Charter High School for the Arts
X-WR-TIMEZONE:America/New_York
BEGIN:VEVENT
DTSTART;VALUE=DATE-TIME:20160525T190000
DTEND;VALUE=DATE-TIME:20160525T210000
DTSTAMP:20260420T224046
CREATED:20160322T090000
LAST-MODIFIED:20160522T102648
UID:11637@https://www.charterarts.org
SUMMARY:Wanda & Leo DeLong Honors Piano Recital
DESCRIPTION:This event was rescheduled from its original February date.    Click here for tickets.
LOCATION:
URL:https://www.charterarts.org/event/wanda-leo-delong-honors-piano-recital/
END:VEVENT
END:VCALENDAR