BEGIN:VCALENDAR
VERSION:2.0
PRODID:-//Lehigh Valley Charter High School for the Arts//NONSGML v1.0//EN
CALSCALE:GREGORIAN
METHOD:PUBLISH
X-WR-CALNAME:Lehigh Valley Charter High School for the Arts
X-ORIGINAL-URL:https://www.charterarts.org
X-WR-CALDESC:Events for Lehigh Valley Charter High School for the Arts
X-WR-TIMEZONE:America/New_York
BEGIN:VEVENT
DTSTART;VALUE=DATE-TIME:20201111T120000
DTEND;VALUE=DATE-TIME:20201111T130000
DTSTAMP:20260420T135657
CREATED:20201103T133704
LAST-MODIFIED:20201103T134714
UID:20754@https://www.charterarts.org
SUMMARY:Wednesday Lunch & Learn Arts Series
DESCRIPTION:
LOCATION:
URL:https://www.charterarts.org/event/wednesday-lunch-learn-arts-series/
END:VEVENT
END:VCALENDAR