BEGIN:VCALENDAR
VERSION:2.0
PRODID:-//Lehigh Valley Charter High School for the Arts//NONSGML v1.0//EN
CALSCALE:GREGORIAN
METHOD:PUBLISH
X-WR-CALNAME:Lehigh Valley Charter High School for the Arts
X-ORIGINAL-URL:https://www.charterarts.org
X-WR-CALDESC:Events for Lehigh Valley Charter High School for the Arts
X-WR-TIMEZONE:America/New_York
BEGIN:VEVENT
DTSTART;VALUE=DATE-TIME:20121012T090000
DTEND;VALUE=DATE-TIME:20121012T134500
DTSTAMP:20260424T094753
CREATED:20120908T111653
LAST-MODIFIED:20120908T111653
UID:3668@https://www.charterarts.org
SUMMARY:Weller Center Assemblies
DESCRIPTION:
LOCATION:
URL:https://www.charterarts.org/event/weller-center-assemblies/
END:VEVENT
END:VCALENDAR