BEGIN:VCALENDAR
VERSION:2.0
PRODID:-//Lehigh Valley Charter High School for the Arts//NONSGML v1.0//EN
CALSCALE:GREGORIAN
METHOD:PUBLISH
X-WR-CALNAME:Lehigh Valley Charter High School for the Arts
X-ORIGINAL-URL:https://www.charterarts.org
X-WR-CALDESC:Events for Lehigh Valley Charter High School for the Arts
X-WR-TIMEZONE:America/New_York
BEGIN:VEVENT
DTSTART;VALUE=DATE-TIME:20170204T180000
DTEND;VALUE=DATE-TIME:20170204T220000
DTSTAMP:20260420T103847
CREATED:20170104T130623
LAST-MODIFIED:20170104T130623
UID:13586@https://www.charterarts.org
SUMMARY:Winter Ball
DESCRIPTION:6:00-10:00 pm at The Meadows in Hellertown.
LOCATION:The Meadows
URL:https://www.charterarts.org/event/winter-ball-4/
END:VEVENT
END:VCALENDAR