BEGIN:VCALENDAR
VERSION:2.0
PRODID:-//Lehigh Valley Charter High School for the Arts//NONSGML v1.0//EN
CALSCALE:GREGORIAN
METHOD:PUBLISH
X-WR-CALNAME:Lehigh Valley Charter High School for the Arts
X-ORIGINAL-URL:https://www.charterarts.org
X-WR-CALDESC:Events for Lehigh Valley Charter High School for the Arts
X-WR-TIMEZONE:America/New_York
BEGIN:VEVENT
DTSTART;VALUE=DATE-TIME:20171216T190000
DTEND;VALUE=DATE-TIME:20171216T210000
DTSTAMP:20260420T113012
CREATED:20170807T134540
LAST-MODIFIED:20171115T142554
UID:14737@https://www.charterarts.org
SUMMARY:Winter Ice Show: Solstice
DESCRIPTION:This event takes place at the Steel Ice Center.  BUY TICKETS
LOCATION:
URL:https://www.charterarts.org/event/winter-ice-show-solstice/
END:VEVENT
END:VCALENDAR